BEGIN:VCALENDAR
VERSION:2.0
PRODID:-//wp-events-plugin.com//7.2.3.1//EN
TZID:Europe/Vienna
X-WR-TIMEZONE:Europe/Vienna
BEGIN:VEVENT
UID:3@wunderbiene.at
DTSTART;TZID=Europe/Vienna:20230614T170000
DTEND;TZID=Europe/Vienna:20230614T203000
DTSTAMP:20221227T200104Z
URL:https://www.wunderbiene.at/events/kochen-am-lagerfeuer-wachswerkstatt/
SUMMARY:Kochen am Lagerfeuer & Wachswerkstatt
DESCRIPTION:\n\nBienen bauen ihren Stock mit Wachswaben aus. Das Wachs erze
 ugen sie selbst mithilfe ihrer Wachsdrüsen. Bienenwachs ist ein absolut n
 atürlicher Rohstoff aus dem wir Kerzen\, Cremen und viele weitere Dinge h
 erstellen können. Im Kurs schauen wir uns die ganze Produktionskette an: 
 vom Stock über das Klären des Rohwaches bis zum fertigen Endprodukt. Die
  fertigen Produkte nehmt ihr am Ende mit nach Hause.\n\n
LOCATION:Imkerei Wunderbiene\, Hermannstraße 14\, Klosterneuburg\, NÖ\, 3
 400\, Österreich
X-APPLE-STRUCTURED-LOCATION;VALUE=URI;X-ADDRESS=Hermannstraße 14\, Kloster
 neuburg\, NÖ\, 3400\, Österreich;X-APPLE-RADIUS=100;X-TITLE=Imkerei Wund
 erbiene:geo:0,0
END:VEVENT
BEGIN:VTIMEZONE
TZID:Europe/Vienna
X-LIC-LOCATION:Europe/Vienna
BEGIN:DAYLIGHT
DTSTART:20230326T030000
TZOFFSETFROM:+0100
TZOFFSETTO:+0200
TZNAME:CEST
END:DAYLIGHT
END:VTIMEZONE
END:VCALENDAR